BEGIN:VCALENDAR
VERSION:2.0
PRODID:-//time.you/holidays//NONSGML v1.0//EN
BEGIN:VEVENT
UID:17c34a22-1c39-45bf-875e-d021c7f428b2
DTSTAMP:20260424T173310Z
DTSTART;VALUE=DATE:20260501
SUMMARY:Labor Day (Aruba)
END:VEVENT
END:VCALENDAR