BEGIN:VCALENDAR
VERSION:2.0
PRODID:-//time.you/holidays//NONSGML v1.0//EN
BEGIN:VEVENT
UID:4abc1b73-7fbb-4a75-a8ef-4ff72901fecd
DTSTAMP:20260420T125828Z
DTSTART;VALUE=DATE:20260318
SUMMARY:National Anthem and Flag Day (Aruba)
END:VEVENT
END:VCALENDAR