BEGIN:VCALENDAR
VERSION:2.0
PRODID:-//time.you/holidays//NONSGML v1.0//EN
BEGIN:VEVENT
UID:db13ce30-f034-4592-8bd1-20789fceac62
DTSTAMP:20260421T191001Z
DTSTART;VALUE=DATE:20260309
SUMMARY:Adelaide Cup Day (Australia)
END:VEVENT
END:VCALENDAR