BEGIN:VCALENDAR
VERSION:2.0
PRODID:-//time.you/holidays//NONSGML v1.0//EN
BEGIN:VEVENT
UID:3ff82f65-ba12-4274-a99c-ff32c7a0ea06
DTSTAMP:20260420T154229Z
DTSTART;VALUE=DATE:20260126
SUMMARY:Australia Day (Australia)
END:VEVENT
END:VCALENDAR