BEGIN:VCALENDAR
VERSION:2.0
PRODID:-//time.you/holidays//NONSGML v1.0//EN
BEGIN:VEVENT
UID:750c0066-0798-48fb-90e7-656fd5f868e7
DTSTAMP:20260422T074120Z
DTSTART;VALUE=DATE:20331226
SUMMARY:Boxing Day; Christmas Day (observed) (Australia)
END:VEVENT
END:VCALENDAR