BEGIN:VCALENDAR
VERSION:2.0
PRODID:-//time.you/holidays//NONSGML v1.0//EN
BEGIN:VEVENT
UID:8fcc2057-c9c5-461f-b5d9-4c895c493806
DTSTAMP:20260422T015738Z
DTSTART;VALUE=DATE:20260309
SUMMARY:Canberra Day (Australia)
END:VEVENT
END:VCALENDAR