BEGIN:VCALENDAR
VERSION:2.0
PRODID:-//time.you/holidays//NONSGML v1.0//EN
BEGIN:VEVENT
UID:f596a1a5-cf5d-491e-9cad-f27759b1cdb0
DTSTAMP:20260420T061857Z
DTSTART;VALUE=DATE:20260406
SUMMARY:Easter Monday (Australia)
END:VEVENT
END:VCALENDAR