BEGIN:VCALENDAR
VERSION:2.0
PRODID:-//time.you/holidays//NONSGML v1.0//EN
BEGIN:VEVENT
UID:a816b661-707c-43c7-ae6f-6aa01080de26
DTSTAMP:20260421T215831Z
DTSTART;VALUE=DATE:20260309
SUMMARY:Eight Hours Day (Australia)
END:VEVENT
END:VCALENDAR