BEGIN:VCALENDAR
VERSION:2.0
PRODID:-//time.you/holidays//NONSGML v1.0//EN
BEGIN:VEVENT
UID:1c6c95c8-1c54-43a4-9a97-fdcd342d0a33
DTSTAMP:20260420T195300Z
DTSTART;VALUE=DATE:20260403
SUMMARY:Good Friday (Australia)
END:VEVENT
END:VCALENDAR