BEGIN:VCALENDAR
VERSION:2.0
PRODID:-//time.you/holidays//NONSGML v1.0//EN
BEGIN:VEVENT
UID:520795e5-09f8-4731-a930-12044ac91a53
DTSTAMP:20260420T195156Z
DTSTART;VALUE=DATE:20261005
SUMMARY:Labor Day (Australia)
END:VEVENT
END:VCALENDAR