BEGIN:VCALENDAR
VERSION:2.0
PRODID:-//time.you/holidays//NONSGML v1.0//EN
BEGIN:VEVENT
UID:f203ed9e-c4ac-4dee-81b8-f677e7e0446b
DTSTAMP:20260421T164417Z
DTSTART;VALUE=DATE:20261103
SUMMARY:Melbourne Cup Day (Australia)
END:VEVENT
END:VCALENDAR