BEGIN:VCALENDAR
VERSION:2.0
PRODID:-//time.you/holidays//NONSGML v1.0//EN
BEGIN:VEVENT
UID:ad807382-3bce-47e9-b816-605f97a90d8f
DTSTAMP:20260421T125324Z
DTSTART;VALUE=DATE:20280103
SUMMARY:New Year's Day (observed) (Australia)
END:VEVENT
END:VCALENDAR