BEGIN:VCALENDAR
VERSION:2.0
PRODID:-//time.you/holidays//NONSGML v1.0//EN
BEGIN:VEVENT
UID:7a15f0cf-f33a-42b3-a019-28a95ae79cf7
DTSTAMP:20260421T234111Z
DTSTART;VALUE=DATE:20260101
SUMMARY:New Year's Day (Australia)
END:VEVENT
END:VCALENDAR