BEGIN:VCALENDAR
VERSION:2.0
PRODID:-//time.you/holidays//NONSGML v1.0//EN
BEGIN:VEVENT
UID:adba1c1f-d2c7-4663-8135-5f28a99c451a
DTSTAMP:20260420T231955Z
DTSTART;VALUE=DATE:20261226
SUMMARY:Proclamation Day (Australia)
END:VEVENT
END:VCALENDAR