BEGIN:VCALENDAR
VERSION:2.0
PRODID:-//time.you/holidays//NONSGML v1.0//EN
BEGIN:VEVENT
UID:a16249ee-c5df-49af-ade6-ed42d76a6d4a
DTSTAMP:20260421T121549Z
DTSTART;VALUE=DATE:20220613
SUMMARY:Queen's Birthday (Australia)
END:VEVENT
END:VCALENDAR