BEGIN:VCALENDAR
VERSION:2.0
PRODID:-//time.you/holidays//NONSGML v1.0//EN
BEGIN:VEVENT
UID:72a8d46e-2a86-4cdc-9c47-cab4bb2b8fc8
DTSTAMP:20260421T123830Z
DTSTART;VALUE=DATE:20260601
SUMMARY:Reconciliation Day (Australia)
END:VEVENT
END:VCALENDAR