BEGIN:VCALENDAR
VERSION:2.0
PRODID:-//time.you/holidays//NONSGML v1.0//EN
BEGIN:VEVENT
UID:68fc1685-a5e8-4c38-941a-24a2172161d1
DTSTAMP:20260424T122244Z
DTSTART;VALUE=DATE:20260601
SUMMARY:Western Australia Day (Australia)
END:VEVENT
END:VCALENDAR