BEGIN:VCALENDAR
VERSION:2.0
PRODID:-//time.you/holidays//NONSGML v1.0//EN
BEGIN:VEVENT
UID:e81756de-2950-4463-ab68-94b40e0bc82b
DTSTAMP:20260421T022829Z
DTSTART;VALUE=DATE:20261101
SUMMARY:All Saints' Day (Austria)
END:VEVENT
END:VCALENDAR