BEGIN:VCALENDAR
VERSION:2.0
PRODID:-//time.you/holidays//NONSGML v1.0//EN
BEGIN:VEVENT
UID:31ae7170-790c-476f-a129-39cf0f1faac4
DTSTAMP:20260421T065617Z
DTSTART;VALUE=DATE:20260514
SUMMARY:Ascension Day (Austria)
END:VEVENT
END:VCALENDAR