BEGIN:VCALENDAR
VERSION:2.0
PRODID:-//time.you/holidays//NONSGML v1.0//EN
BEGIN:VEVENT
UID:ec40d209-b6f1-4ff8-b89d-eed23b65a050
DTSTAMP:20260420T184104Z
DTSTART;VALUE=DATE:20260815
SUMMARY:Assumption Day (Austria)
END:VEVENT
END:VCALENDAR