BEGIN:VCALENDAR
VERSION:2.0
PRODID:-//time.you/holidays//NONSGML v1.0//EN
BEGIN:VEVENT
UID:ce32ce8f-f264-4df5-b6d2-bafb3012a9d6
DTSTAMP:20260421T125512Z
DTSTART;VALUE=DATE:20260604
SUMMARY:Corpus Christi (Austria)
END:VEVENT
END:VCALENDAR