BEGIN:VCALENDAR
VERSION:2.0
PRODID:-//time.you/holidays//NONSGML v1.0//EN
BEGIN:VEVENT
UID:113ff2d2-e547-4c08-b365-6c61d4ce6cce
DTSTAMP:20260423T091355Z
DTSTART;VALUE=DATE:20260406
SUMMARY:Easter Monday (Austria)
END:VEVENT
END:VCALENDAR