BEGIN:VCALENDAR
VERSION:2.0
PRODID:-//time.you/holidays//NONSGML v1.0//EN
BEGIN:VEVENT
UID:a7067b92-4c3a-4c39-8436-c51fc0f84586
DTSTAMP:20260421T034818Z
DTSTART;VALUE=DATE:20261208
SUMMARY:Immaculate Conception (Austria)
END:VEVENT
END:VCALENDAR