BEGIN:VCALENDAR
VERSION:2.0
PRODID:-//time.you/holidays//NONSGML v1.0//EN
BEGIN:VEVENT
UID:07d16a74-19c8-4ef9-a82d-3321296a7f77
DTSTAMP:20260424T053241Z
DTSTART;VALUE=DATE:20260529
SUMMARY:Eid al-Adha (observed, estimated) (Azerbaijan)
END:VEVENT
END:VCALENDAR