BEGIN:VCALENDAR
VERSION:2.0
PRODID:-//time.you/holidays//NONSGML v1.0//EN
BEGIN:VEVENT
UID:cd4c8c56-3749-465a-a14c-b0b156d5cc3e
DTSTAMP:20260421T205633Z
DTSTART;VALUE=DATE:20260327
SUMMARY:Eid al-Fitr (observed, estimated) (Azerbaijan)
END:VEVENT
END:VCALENDAR