BEGIN:VCALENDAR
VERSION:2.0
PRODID:-//time.you/holidays//NONSGML v1.0//EN
BEGIN:VEVENT
UID:4021bf37-2665-42e3-abc1-892bcf4ba158
DTSTAMP:20260422T071627Z
DTSTART;VALUE=DATE:20261231
SUMMARY:International Azerbaijanis Solidarity Day (Azerbaijan)
END:VEVENT
END:VCALENDAR