BEGIN:VCALENDAR
VERSION:2.0
PRODID:-//time.you/holidays//NONSGML v1.0//EN
BEGIN:VEVENT
UID:ab4c0797-98e2-4b1c-90e7-099393915db8
DTSTAMP:20260420T095229Z
DTSTART;VALUE=DATE:20260120
SUMMARY:Martyrs' Day (Azerbaijan)
END:VEVENT
END:VCALENDAR