BEGIN:VCALENDAR
VERSION:2.0
PRODID:-//time.you/holidays//NONSGML v1.0//EN
BEGIN:VEVENT
UID:1332b781-3402-494b-a161-cd15060aaf10
DTSTAMP:20260421T130846Z
DTSTART;VALUE=DATE:20261108
SUMMARY:Victory Day (Azerbaijan)
END:VEVENT
END:VCALENDAR