BEGIN:VCALENDAR
VERSION:2.0
PRODID:-//time.you/holidays//NONSGML v1.0//EN
BEGIN:VEVENT
UID:59c512e7-047d-4744-966e-782363a34274
DTSTAMP:20260422T071517Z
DTSTART;VALUE=DATE:20260509
SUMMARY:Victory over Fascism Day (Azerbaijan)
END:VEVENT
END:VCALENDAR