BEGIN:VCALENDAR
VERSION:2.0
PRODID:-//time.you/holidays//NONSGML v1.0//EN
BEGIN:VEVENT
UID:1faf49f6-2ace-4f3b-8d2e-17a3312dd274
DTSTAMP:20260419T180838Z
DTSTART;VALUE=DATE:20270712
SUMMARY:Independence Day (observed) (Bahamas)
END:VEVENT
END:VCALENDAR