BEGIN:VCALENDAR
VERSION:2.0
PRODID:-//time.you/holidays//NONSGML v1.0//EN
BEGIN:VEVENT
UID:5d84d3e3-46d7-4733-bf1d-d4a44bc5d03c
DTSTAMP:20260419T205316Z
DTSTART;VALUE=DATE:20260112
SUMMARY:Majority Rule Day (observed) (Bahamas)
END:VEVENT
END:VCALENDAR