BEGIN:VCALENDAR
VERSION:2.0
PRODID:-//time.you/holidays//NONSGML v1.0//EN
BEGIN:VEVENT
UID:68bcf8df-eaa0-4b0b-b94f-e27885e753d3
DTSTAMP:20260421T131310Z
DTSTART;VALUE=DATE:20261012
SUMMARY:National Heroes Day (Bahamas)
END:VEVENT
END:VCALENDAR