BEGIN:VCALENDAR
VERSION:2.0
PRODID:-//time.you/holidays//NONSGML v1.0//EN
BEGIN:VEVENT
UID:b3aa4883-06e1-4416-9025-f25472d7be2d
DTSTAMP:20260419T163650Z
DTSTART;VALUE=DATE:20260605
SUMMARY:Randol Fawkes Labour Day (Bahamas)
END:VEVENT
END:VCALENDAR