BEGIN:VCALENDAR
VERSION:2.0
PRODID:-//time.you/holidays//NONSGML v1.0//EN
BEGIN:VEVENT
UID:7f123168-1221-4577-b860-4d890e45404b
DTSTAMP:20260419T180830Z
DTSTART;VALUE=DATE:20220919
SUMMARY:State Funeral of Queen Elizabeth II (Bahamas)
END:VEVENT
END:VCALENDAR