BEGIN:VCALENDAR
VERSION:2.0
PRODID:-//time.you/holidays//NONSGML v1.0//EN
BEGIN:VEVENT
UID:5a9c5cde-6f27-48ae-992c-833d078d8e76
DTSTAMP:20260419T192716Z
DTSTART;VALUE=DATE:20260624
SUMMARY:Ashura (estimated) (Bahrain)
END:VEVENT
END:VCALENDAR