BEGIN:VCALENDAR
VERSION:2.0
PRODID:-//time.you/holidays//NONSGML v1.0//EN
BEGIN:VEVENT
UID:0f1a192d-a59e-412e-b633-49094e3e7c47
DTSTAMP:20260419T231214Z
DTSTART;VALUE=DATE:20250704
SUMMARY:Ashura (Bahrain)
END:VEVENT
END:VCALENDAR