BEGIN:VCALENDAR
VERSION:2.0
PRODID:-//time.you/holidays//NONSGML v1.0//EN
BEGIN:VEVENT
UID:0e681d38-191c-4888-9560-831bb78d0c93
DTSTAMP:20260419T231212Z
DTSTART;VALUE=DATE:20260527
SUMMARY:Eid al-Adha (estimated) (Bahrain)
END:VEVENT
END:VCALENDAR