BEGIN:VCALENDAR
VERSION:2.0
PRODID:-//time.you/holidays//NONSGML v1.0//EN
BEGIN:VEVENT
UID:3ffaba89-a9a6-42c9-abb8-0c7306d0dab6
DTSTAMP:20260419T231214Z
DTSTART;VALUE=DATE:20250606
SUMMARY:Eid al-Adha (Bahrain)
END:VEVENT
END:VCALENDAR