BEGIN:VCALENDAR
VERSION:2.0
PRODID:-//time.you/holidays//NONSGML v1.0//EN
BEGIN:VEVENT
UID:d75d56a6-941e-4117-a8e1-bcf9d1b154a6
DTSTAMP:20260420T081413Z
DTSTART;VALUE=DATE:20260320
SUMMARY:Eid al-Fitr (estimated) (Bahrain)
END:VEVENT
END:VCALENDAR