BEGIN:VCALENDAR
VERSION:2.0
PRODID:-//time.you/holidays//NONSGML v1.0//EN
BEGIN:VEVENT
UID:44c83530-1aa3-4d93-b55c-2e882e4afcc6
DTSTAMP:20260422T070414Z
DTSTART;VALUE=DATE:20260616
SUMMARY:Islamic New Year (estimated) (Bahrain)
END:VEVENT
END:VCALENDAR