BEGIN:VCALENDAR
VERSION:2.0
PRODID:-//time.you/holidays//NONSGML v1.0//EN
BEGIN:VEVENT
UID:e308367e-3a77-4318-8876-aa8c0a04439a
DTSTAMP:20260419T231228Z
DTSTART;VALUE=DATE:20250626
SUMMARY:Islamic New Year (Bahrain)
END:VEVENT
END:VCALENDAR