BEGIN:VCALENDAR
VERSION:2.0
PRODID:-//time.you/holidays//NONSGML v1.0//EN
BEGIN:VEVENT
UID:e8c04f00-5705-4748-8a51-1e2908a21024
DTSTAMP:20260420T152906Z
DTSTART;VALUE=DATE:20260501
SUMMARY:Labor Day (Bahrain)
END:VEVENT
END:VCALENDAR