BEGIN:VCALENDAR
VERSION:2.0
PRODID:-//time.you/holidays//NONSGML v1.0//EN
BEGIN:VEVENT
UID:0ef6517c-50d1-46c1-945c-df9b839d5fa0
DTSTAMP:20260420T195626Z
DTSTART;VALUE=DATE:20261216
SUMMARY:National Day (Bahrain)
END:VEVENT
END:VCALENDAR