BEGIN:VCALENDAR
VERSION:2.0
PRODID:-//time.you/holidays//NONSGML v1.0//EN
BEGIN:VEVENT
UID:5cc936be-c3c5-450d-ae6c-37de1937aad2
DTSTAMP:20260421T133926Z
DTSTART;VALUE=DATE:20260101
SUMMARY:New Year's Day (Bahrain)
END:VEVENT
END:VCALENDAR