BEGIN:VCALENDAR
VERSION:2.0
PRODID:-//time.you/holidays//NONSGML v1.0//EN
BEGIN:VEVENT
UID:817eb858-f253-4f87-999a-bd7b55b6eb80
DTSTAMP:20260419T231213Z
DTSTART;VALUE=DATE:20250904
SUMMARY:Prophet's Birthday (Bahrain)
END:VEVENT
END:VCALENDAR