BEGIN:VCALENDAR
VERSION:2.0
PRODID:-//time.you/holidays//NONSGML v1.0//EN
BEGIN:VEVENT
UID:47dbd59f-d8aa-4371-9b83-1f594b38408c
DTSTAMP:20260420T090350Z
DTSTART;VALUE=DATE:20260221
SUMMARY:International Mother's language Day (Bangladesh)
END:VEVENT
END:VCALENDAR