BEGIN:VCALENDAR
VERSION:2.0
PRODID:-//time.you/holidays//NONSGML v1.0//EN
BEGIN:VEVENT
UID:9e0a113a-fcfa-41c6-8a70-5211ed64f049
DTSTAMP:20260421T124555Z
DTSTART;VALUE=DATE:20260501
SUMMARY:May Day (Bangladesh)
END:VEVENT
END:VCALENDAR