BEGIN:VCALENDAR
VERSION:2.0
PRODID:-//time.you/holidays//NONSGML v1.0//EN
BEGIN:VEVENT
UID:7c1b2191-9347-4e80-b572-a4f9c2ca9f4d
DTSTAMP:20260422T070247Z
DTSTART;VALUE=DATE:20261216
SUMMARY:Victory Day (Bangladesh)
END:VEVENT
END:VCALENDAR