BEGIN:VCALENDAR
VERSION:2.0
PRODID:-//time.you/holidays//NONSGML v1.0//EN
BEGIN:VEVENT
UID:70651769-b7c3-45e2-a7ef-10d19127dbb7
DTSTAMP:20260419T233613Z
DTSTART;VALUE=DATE:20271227
SUMMARY:Boxing Day (observed) (Barbados)
END:VEVENT
END:VCALENDAR