BEGIN:VCALENDAR
VERSION:2.0
PRODID:-//time.you/holidays//NONSGML v1.0//EN
BEGIN:VEVENT
UID:16cb48bb-207e-44e3-90a6-aa0c667e894d
DTSTAMP:20260420T073829Z
DTSTART;VALUE=DATE:20261226
SUMMARY:Boxing Day (Barbados)
END:VEVENT
END:VCALENDAR